BEGIN:VCALENDAR
VERSION:2.0
PRODID:-//eventon.com NONSGML v1.0//EN
BEGIN:VEVENT
UID:69e835d25c2d4
DTSTAMP:20260421T224330
DTSTART:20260509T200000Z
DTEND:20260510T020000Z
LOCATION:Knoebel's Amusement Park 391 Knoebels Blvd\,  Elysburg PA
SUMMARY:Fan Appreciation Day
DESCRIPTION: Fan Appreciation Day
END:VEVENT
END:VCALENDAR