BEGIN:VCALENDAR
VERSION:2.0
PRODID:-//eventon.com NONSGML v1.0//EN
BEGIN:VEVENT
UID:69e730b73ed7b
DTSTAMP:20260421T040927
DTSTART:20260328T210000Z
DTEND:20260329T020000Z
LOCATION:Bryce Jordan Center 720 Curtin Road\,  State College\,  PA 16801
SUMMARY:WinterJam
DESCRIPTION: WinterJam
END:VEVENT
END:VCALENDAR